Package: spqn Version: 1.14.0 Command: rm -rf spqn.buildbin-libdir && mkdir spqn.buildbin-libdir && F:\biocbuild\bbs-3.18-bioc\R\bin\R.exe CMD INSTALL --build --library=spqn.buildbin-libdir spqn_1.14.0.tar.gz StartedAt: 2024-04-16 07:45:10 -0400 (Tue, 16 Apr 2024) EndedAt: 2024-04-16 07:45:47 -0400 (Tue, 16 Apr 2024) EllapsedTime: 37.8 seconds RetCode: 0 Status: OK PackageFile: spqn_1.14.0.zip PackageFileSize: 2.281 MiB