Package: spqn Version: 1.14.0 Command: /home/biocbuild/bbs-3.18-bioc/R/bin/R CMD build --keep-empty-dirs --no-resave-data spqn StartedAt: 2024-04-15 19:25:38 -0400 (Mon, 15 Apr 2024) EndedAt: 2024-04-15 19:27:03 -0400 (Mon, 15 Apr 2024) EllapsedTime: 85.0 seconds RetCode: 0 Status: OK PackageFile: spqn_1.14.0.tar.gz PackageFileSize: 2.713 MiB