Package: spqn Version: 1.14.0 Command: /Library/Frameworks/R.framework/Resources/bin/R CMD INSTALL spqn StartedAt: 2024-04-15 15:21:52 -0400 (Mon, 15 Apr 2024) EndedAt: 2024-04-15 15:22:45 -0400 (Mon, 15 Apr 2024) EllapsedTime: 53.5 seconds RetCode: 0 Status: OK