Package: spqn Version: 1.14.0 Command: /Library/Frameworks/R.framework/Resources/bin/R CMD check --install=check:spqn.install-out.txt --library=/Library/Frameworks/R.framework/Resources/library --no-vignettes --timings spqn_1.14.0.tar.gz StartedAt: 2024-04-16 09:25:35 -0400 (Tue, 16 Apr 2024) EndedAt: 2024-04-16 09:32:16 -0400 (Tue, 16 Apr 2024) EllapsedTime: 401.2 seconds RetCode: 0 Status: OK CheckDir: spqn.Rcheck Warnings: 0