Package: spqn Version: 1.14.0 Command: /home/biocbuild/R/R-4.3.1/bin/R CMD INSTALL spqn StartedAt: 2023-11-01 20:15:51 -0000 (Wed, 01 Nov 2023) EndedAt: 2023-11-01 20:16:24 -0000 (Wed, 01 Nov 2023) EllapsedTime: 32.5 seconds RetCode: 0 Status: OK