Package: splots Version: 1.68.0 Command: F:\biocbuild\bbs-3.18-bioc\R\bin\R.exe CMD check --no-multiarch --install=check:splots.install-out.txt --library=F:\biocbuild\bbs-3.18-bioc\R\library --no-vignettes --timings splots_1.68.0.tar.gz StartedAt: 2024-04-16 05:29:46 -0400 (Tue, 16 Apr 2024) EndedAt: 2024-04-16 05:30:09 -0400 (Tue, 16 Apr 2024) EllapsedTime: 22.8 seconds RetCode: 0 Status: OK CheckDir: splots.Rcheck Warnings: 0