Package: splots Version: 1.68.0 Command: chmod a+r splots -R && F:\biocbuild\bbs-3.18-bioc\R\bin\R.exe CMD build --keep-empty-dirs --no-resave-data splots StartedAt: 2024-04-15 21:25:47 -0400 (Mon, 15 Apr 2024) EndedAt: 2024-04-15 21:27:00 -0400 (Mon, 15 Apr 2024) EllapsedTime: 73.0 seconds RetCode: 0 Status: OK PackageFile: splots_1.68.0.tar.gz PackageFileSize: 482.5 KiB