Package: splots Version: 1.68.0 Command: rm -rf splots.buildbin-libdir && mkdir splots.buildbin-libdir && F:\biocbuild\bbs-3.18-bioc\R\bin\R.exe CMD INSTALL --build --library=splots.buildbin-libdir splots_1.68.0.tar.gz StartedAt: 2024-04-16 07:45:04 -0400 (Tue, 16 Apr 2024) EndedAt: 2024-04-16 07:45:15 -0400 (Tue, 16 Apr 2024) EllapsedTime: 11.1 seconds RetCode: 0 Status: OK PackageFile: splots_1.68.0.zip PackageFileSize: 502.9 KiB