Package: splatter Version: 1.26.0 Command: /home/biocbuild/bbs-3.18-bioc/R/bin/R CMD INSTALL splatter StartedAt: 2024-04-15 15:36:27 -0400 (Mon, 15 Apr 2024) EndedAt: 2024-04-15 15:36:56 -0400 (Mon, 15 Apr 2024) EllapsedTime: 29.0 seconds RetCode: 0 Status: OK