Package: splatter Version: 1.26.0 Command: /home/biocbuild/bbs-3.18-bioc/R/bin/R CMD build --keep-empty-dirs --no-resave-data splatter StartedAt: 2024-04-15 19:24:17 -0400 (Mon, 15 Apr 2024) EndedAt: 2024-04-15 19:27:26 -0400 (Mon, 15 Apr 2024) EllapsedTime: 189.1 seconds RetCode: 0 Status: OK PackageFile: splatter_1.26.0.tar.gz PackageFileSize: 6.481 MiB