Package: splatter Version: 1.26.0 Command: /Library/Frameworks/R.framework/Resources/bin/R CMD INSTALL splatter StartedAt: 2024-03-03 15:32:23 -0500 (Sun, 03 Mar 2024) EndedAt: 2024-03-03 15:33:06 -0500 (Sun, 03 Mar 2024) EllapsedTime: 43.6 seconds RetCode: 0 Status: OK