Package: splatter Version: 1.26.0 Command: /Library/Frameworks/R.framework/Resources/bin/R CMD build --keep-empty-dirs --no-resave-data splatter StartedAt: 2024-03-03 18:27:19 -0500 (Sun, 03 Mar 2024) EndedAt: 2024-03-03 18:31:04 -0500 (Sun, 03 Mar 2024) EllapsedTime: 224.8 seconds RetCode: 0 Status: OK PackageFile: splatter_1.26.0.tar.gz PackageFileSize: 6.546 MiB