Package: spiky Version: 1.8.0 Command: /Library/Frameworks/R.framework/Resources/bin/R CMD INSTALL spiky StartedAt: 2024-03-03 15:32:14 -0500 (Sun, 03 Mar 2024) EndedAt: 2024-03-03 15:33:11 -0500 (Sun, 03 Mar 2024) EllapsedTime: 56.8 seconds RetCode: 0 Status: OK