Package: spikeLI Version: 2.62.0 Command: /Library/Frameworks/R.framework/Resources/bin/R CMD build --keep-empty-dirs --no-resave-data spikeLI StartedAt: 2024-04-15 22:16:49 -0400 (Mon, 15 Apr 2024) EndedAt: 2024-04-15 22:17:05 -0400 (Mon, 15 Apr 2024) EllapsedTime: 16.2 seconds RetCode: 0 Status: OK PackageFile: spikeLI_2.62.0.tar.gz PackageFileSize: 393.6 KiB