Package: spikeLI Version: 2.62.0 Command: /home/biocbuild/R/R-4.3.1/bin/R CMD check --install=check:spikeLI.install-out.txt --library=/home/biocbuild/R/R-4.3.1/site-library --no-vignettes --timings spikeLI_2.62.0.tar.gz StartedAt: 2023-11-02 14:35:47 -0000 (Thu, 02 Nov 2023) EndedAt: 2023-11-02 14:36:08 -0000 (Thu, 02 Nov 2023) EllapsedTime: 21.0 seconds RetCode: 0 Status: OK CheckDir: spikeLI.Rcheck Warnings: 0