Package: specL Version: 1.36.0 Command: F:\biocbuild\bbs-3.18-bioc\R\bin\R.exe CMD INSTALL specL StartedAt: 2024-04-15 15:51:16 -0400 (Mon, 15 Apr 2024) EndedAt: 2024-04-15 15:51:27 -0400 (Mon, 15 Apr 2024) EllapsedTime: 11.0 seconds RetCode: 0 Status: OK