Package: specL Version: 1.36.0 Command: /home/biocbuild/R/R-4.3.1/bin/R CMD build --keep-empty-dirs --no-resave-data specL StartedAt: 2023-11-02 06:39:08 -0000 (Thu, 02 Nov 2023) EndedAt: 2023-11-02 06:39:36 -0000 (Thu, 02 Nov 2023) EllapsedTime: 28.0 seconds RetCode: 0 Status: OK PackageFile: specL_1.36.0.tar.gz PackageFileSize: 2.011 MiB