Package: spatialHeatmap Version: 2.8.5 Command: /home/biocbuild/bbs-3.18-bioc/R/bin/R CMD check --install=check:spatialHeatmap.install-out.txt --library=/home/biocbuild/bbs-3.18-bioc/R/site-library --timings spatialHeatmap_2.8.5.tar.gz StartedAt: 2024-04-16 04:13:21 -0400 (Tue, 16 Apr 2024) EndedAt: 2024-04-16 04:27:58 -0400 (Tue, 16 Apr 2024) EllapsedTime: 877.0 seconds RetCode: 0 Status: OK CheckDir: spatialHeatmap.Rcheck Warnings: 0