Package: spatialHeatmap Version: 2.8.5 Command: /Library/Frameworks/R.framework/Resources/bin/R CMD build --keep-empty-dirs --no-resave-data spatialHeatmap StartedAt: 2024-04-15 22:13:11 -0400 (Mon, 15 Apr 2024) EndedAt: 2024-04-15 22:23:31 -0400 (Mon, 15 Apr 2024) EllapsedTime: 620.1 seconds RetCode: 0 Status: OK PackageFile: spatialHeatmap_2.8.5.tar.gz PackageFileSize: 35.07 MiB