Package: spatialDE Version: 1.8.1 Command: rm -rf spatialDE.buildbin-libdir && mkdir spatialDE.buildbin-libdir && /Users/biocbuild/BBS/utils/build-universal.sh spatialDE_1.8.1.tar.gz /Library/Frameworks/R.framework/Resources/bin/R spatialDE.buildbin-libdir StartedAt: 2024-04-16 12:47:26 -0400 (Tue, 16 Apr 2024) EndedAt: 2024-04-16 12:48:10 -0400 (Tue, 16 Apr 2024) EllapsedTime: 44.3 seconds RetCode: 0 Status: OK PackageFile: spatialDE_1.8.1.tgz PackageFileSize: 3.942 MiB