Package: spatialDE Version: 1.8.1 Command: /Library/Frameworks/R.framework/Resources/bin/R CMD INSTALL spatialDE StartedAt: 2024-03-03 15:16:24 -0500 (Sun, 03 Mar 2024) EndedAt: 2024-03-03 15:16:57 -0500 (Sun, 03 Mar 2024) EllapsedTime: 32.5 seconds RetCode: 0 Status: OK