Package: spatialDE Version: 1.8.0 Command: /home/biocbuild/R/R-4.3.1/bin/R CMD INSTALL spatialDE StartedAt: 2023-11-01 20:21:06 -0000 (Wed, 01 Nov 2023) EndedAt: 2023-11-01 20:21:33 -0000 (Wed, 01 Nov 2023) EllapsedTime: 27.1 seconds RetCode: 0 Status: OK