Package: sparsenetgls Version: 1.20.0 Command: chmod a+r sparsenetgls -R && F:\biocbuild\bbs-3.18-bioc\R\bin\R.exe CMD build --keep-empty-dirs --no-resave-data sparsenetgls StartedAt: 2024-04-15 21:20:04 -0400 (Mon, 15 Apr 2024) EndedAt: 2024-04-15 21:22:48 -0400 (Mon, 15 Apr 2024) EllapsedTime: 163.4 seconds RetCode: 0 Status: OK PackageFile: sparsenetgls_1.20.0.tar.gz PackageFileSize: 280 KiB