Package: sparsenetgls Version: 1.20.0 Command: /home/biocbuild/R/R-4.3.1/bin/R CMD check --install=check:sparsenetgls.install-out.txt --library=/home/biocbuild/R/R-4.3.1/site-library --no-vignettes --timings sparsenetgls_1.20.0.tar.gz StartedAt: 2023-11-02 14:33:00 -0000 (Thu, 02 Nov 2023) EndedAt: 2023-11-02 14:35:10 -0000 (Thu, 02 Nov 2023) EllapsedTime: 130.2 seconds RetCode: 0 Status: OK CheckDir: sparsenetgls.Rcheck Warnings: 0