Package: sparsenetgls Version: 1.20.0 Command: /home/biocbuild/R/R-4.3.1/bin/R CMD build --keep-empty-dirs --no-resave-data sparsenetgls StartedAt: 2023-11-02 06:36:23 -0000 (Thu, 02 Nov 2023) EndedAt: 2023-11-02 06:43:31 -0000 (Thu, 02 Nov 2023) EllapsedTime: 427.9 seconds RetCode: 0 Status: OK PackageFile: sparsenetgls_1.20.0.tar.gz PackageFileSize: 599.5 KiB