Package: sparseDOSSA Version: 1.26.0 Command: /Library/Frameworks/R.framework/Resources/bin/R CMD INSTALL sparseDOSSA StartedAt: 2024-04-15 16:08:15 -0400 (Mon, 15 Apr 2024) EndedAt: 2024-04-15 16:08:32 -0400 (Mon, 15 Apr 2024) EllapsedTime: 16.9 seconds RetCode: 0 Status: OK