Package: sparseDOSSA Version: 1.26.0 Command: /Library/Frameworks/R.framework/Resources/bin/R CMD build --keep-empty-dirs --no-resave-data sparseDOSSA StartedAt: 2024-04-15 22:11:59 -0400 (Mon, 15 Apr 2024) EndedAt: 2024-04-15 22:13:45 -0400 (Mon, 15 Apr 2024) EllapsedTime: 106.4 seconds RetCode: 0 Status: OK PackageFile: sparseDOSSA_1.26.0.tar.gz PackageFileSize: 970.1 KiB