Package: sparseDOSSA Version: 1.26.0 Command: /Library/Frameworks/R.framework/Resources/bin/R CMD INSTALL sparseDOSSA StartedAt: 2024-03-03 15:31:48 -0500 (Sun, 03 Mar 2024) EndedAt: 2024-03-03 15:31:59 -0500 (Sun, 03 Mar 2024) EllapsedTime: 11.0 seconds RetCode: 0 Status: OK