Package: sparseDOSSA Version: 1.26.0 Command: rm -rf sparseDOSSA.buildbin-libdir && mkdir sparseDOSSA.buildbin-libdir && /Users/biocbuild/BBS/utils/build-universal.sh sparseDOSSA_1.26.0.tar.gz /Library/Frameworks/R.framework/Resources/bin/R sparseDOSSA.buildbin-libdir StartedAt: 2024-03-04 01:06:03 -0500 (Mon, 04 Mar 2024) EndedAt: 2024-03-04 01:06:16 -0500 (Mon, 04 Mar 2024) EllapsedTime: 12.6 seconds RetCode: 0 Status: OK PackageFile: sparseDOSSA_1.26.0.tgz PackageFileSize: 648.8 KiB