Package: sparseDOSSA Version: 1.26.0 Command: /home/biocbuild/R/R-4.3.1/bin/R CMD INSTALL sparseDOSSA StartedAt: 2023-11-01 20:44:53 -0000 (Wed, 01 Nov 2023) EndedAt: 2023-11-01 20:45:02 -0000 (Wed, 01 Nov 2023) EllapsedTime: 9.1 seconds RetCode: 0 Status: OK