Package: sparseDOSSA Version: 1.26.0 Command: /home/biocbuild/R/R-4.3.1/bin/R CMD build --keep-empty-dirs --no-resave-data sparseDOSSA StartedAt: 2023-11-02 06:35:49 -0000 (Thu, 02 Nov 2023) EndedAt: 2023-11-02 06:36:44 -0000 (Thu, 02 Nov 2023) EllapsedTime: 54.7 seconds RetCode: 0 Status: OK PackageFile: sparseDOSSA_1.26.0.tar.gz PackageFileSize: 1.412 MiB