Package: spaSim Version: 1.4.0 Command: rm -rf spaSim.buildbin-libdir && mkdir spaSim.buildbin-libdir && F:\biocbuild\bbs-3.18-bioc\R\bin\R.exe CMD INSTALL --build --library=spaSim.buildbin-libdir spaSim_1.4.0.tar.gz StartedAt: 2024-04-16 07:43:58 -0400 (Tue, 16 Apr 2024) EndedAt: 2024-04-16 07:44:37 -0400 (Tue, 16 Apr 2024) EllapsedTime: 38.7 seconds RetCode: 0 Status: OK PackageFile: spaSim_1.4.0.zip PackageFileSize: 1.066 MiB