Package: spaSim Version: 1.4.0 Command: /Library/Frameworks/R.framework/Resources/bin/R CMD INSTALL spaSim StartedAt: 2024-04-15 15:25:47 -0400 (Mon, 15 Apr 2024) EndedAt: 2024-04-15 15:26:42 -0400 (Mon, 15 Apr 2024) EllapsedTime: 55.8 seconds RetCode: 0 Status: OK