Package: spaSim Version: 1.4.0 Command: /Library/Frameworks/R.framework/Resources/bin/R CMD check --install=check:spaSim.install-out.txt --library=/Library/Frameworks/R.framework/Resources/library --no-vignettes --timings spaSim_1.4.0.tar.gz StartedAt: 2024-04-16 09:14:00 -0400 (Tue, 16 Apr 2024) EndedAt: 2024-04-16 09:25:35 -0400 (Tue, 16 Apr 2024) EllapsedTime: 695.2 seconds RetCode: 0 Status: OK CheckDir: spaSim.Rcheck Warnings: 0