Package: spaSim Version: 1.4.0 Command: /Library/Frameworks/R.framework/Resources/bin/R CMD build --keep-empty-dirs --no-resave-data spaSim StartedAt: 2024-04-15 22:12:28 -0400 (Mon, 15 Apr 2024) EndedAt: 2024-04-15 22:16:48 -0400 (Mon, 15 Apr 2024) EllapsedTime: 259.3 seconds RetCode: 0 Status: OK PackageFile: spaSim_1.4.0.tar.gz PackageFileSize: 3.901 MiB