Package: spaSim Version: 1.4.0 Command: /Library/Frameworks/R.framework/Resources/bin/R CMD check --install=check:spaSim.install-out.txt --library=/Library/Frameworks/R.framework/Resources/library --no-vignettes --timings spaSim_1.4.0.tar.gz StartedAt: 2024-03-03 23:38:03 -0500 (Sun, 03 Mar 2024) EndedAt: 2024-03-03 23:43:52 -0500 (Sun, 03 Mar 2024) EllapsedTime: 349.3 seconds RetCode: 0 Status: OK CheckDir: spaSim.Rcheck Warnings: 0