Package: spaSim Version: 1.4.0 Command: /home/biocbuild/R/R-4.3.1/bin/R CMD INSTALL spaSim StartedAt: 2023-11-01 20:18:25 -0000 (Wed, 01 Nov 2023) EndedAt: 2023-11-01 20:19:00 -0000 (Wed, 01 Nov 2023) EllapsedTime: 34.9 seconds RetCode: 0 Status: OK