Package: soGGi Version: 1.34.0 Command: /Library/Frameworks/R.framework/Resources/bin/R CMD INSTALL soGGi StartedAt: 2024-04-15 15:40:39 -0400 (Mon, 15 Apr 2024) EndedAt: 2024-04-15 15:42:04 -0400 (Mon, 15 Apr 2024) EllapsedTime: 84.6 seconds RetCode: 0 Status: OK