Package: soGGi Version: 1.34.0 Command: /Library/Frameworks/R.framework/Resources/bin/R CMD build --keep-empty-dirs --no-resave-data soGGi StartedAt: 2024-04-15 22:10:08 -0400 (Mon, 15 Apr 2024) EndedAt: 2024-04-15 22:13:11 -0400 (Mon, 15 Apr 2024) EllapsedTime: 183.1 seconds RetCode: 0 Status: OK PackageFile: soGGi_1.34.0.tar.gz PackageFileSize: 3.318 MiB