Package: snm Version: 1.50.0 Command: /home/biocbuild/R/R-4.3.1/bin/R CMD build --keep-empty-dirs --no-resave-data snm StartedAt: 2023-11-02 06:31:52 -0000 (Thu, 02 Nov 2023) EndedAt: 2023-11-02 06:34:45 -0000 (Thu, 02 Nov 2023) EllapsedTime: 173.2 seconds RetCode: 0 Status: OK PackageFile: snm_1.50.0.tar.gz PackageFileSize: 715.6 KiB