Package: snifter Version: 1.12.0 Command: /Library/Frameworks/R.framework/Resources/bin/R CMD check --install=check:snifter.install-out.txt --library=/Library/Frameworks/R.framework/Resources/library --no-vignettes --timings snifter_1.12.0.tar.gz StartedAt: 2024-03-03 23:35:08 -0500 (Sun, 03 Mar 2024) EndedAt: 2024-03-03 23:37:48 -0500 (Sun, 03 Mar 2024) EllapsedTime: 160.0 seconds RetCode: 0 Status: OK CheckDir: snifter.Rcheck Warnings: 0