Package: snifter Version: 1.12.0 Command: /home/biocbuild/R/R-4.3.1/bin/R CMD build --keep-empty-dirs --no-resave-data snifter StartedAt: 2023-11-02 06:31:47 -0000 (Thu, 02 Nov 2023) EndedAt: 2023-11-02 06:32:51 -0000 (Thu, 02 Nov 2023) EllapsedTime: 64.1 seconds RetCode: 0 Status: OK PackageFile: snifter_1.12.0.tar.gz PackageFileSize: 777.9 KiB