Package: snapcount Version: 1.14.0 Command: chmod a+r snapcount -R && F:\biocbuild\bbs-3.18-bioc\R\bin\R.exe CMD build --keep-empty-dirs --no-resave-data snapcount StartedAt: 2024-04-15 21:17:13 -0400 (Mon, 15 Apr 2024) EndedAt: 2024-04-15 21:18:42 -0400 (Mon, 15 Apr 2024) EllapsedTime: 88.4 seconds RetCode: 0 Status: OK PackageFile: snapcount_1.14.0.tar.gz PackageFileSize: 514.5 KiB