Package: snapCGH Version: 1.72.0 Command: /home/biocbuild/R/R-4.3.1/bin/R CMD INSTALL snapCGH StartedAt: 2023-11-01 20:48:30 -0000 (Wed, 01 Nov 2023) EndedAt: 2023-11-01 20:49:07 -0000 (Wed, 01 Nov 2023) EllapsedTime: 36.7 seconds RetCode: 0 Status: OK