Package: slingshot Version: 2.10.0 Command: /home/biocbuild/bbs-3.18-bioc/R/bin/R CMD INSTALL slingshot StartedAt: 2024-04-15 15:14:34 -0400 (Mon, 15 Apr 2024) EndedAt: 2024-04-15 15:14:59 -0400 (Mon, 15 Apr 2024) EllapsedTime: 25.0 seconds RetCode: 0 Status: OK