Package: slingshot Version: 2.10.0 Command: /Library/Frameworks/R.framework/Resources/bin/R CMD build --keep-empty-dirs --no-resave-data slingshot StartedAt: 2024-03-03 18:23:23 -0500 (Sun, 03 Mar 2024) EndedAt: 2024-03-03 18:24:43 -0500 (Sun, 03 Mar 2024) EllapsedTime: 80.3 seconds RetCode: 0 Status: OK PackageFile: slingshot_2.10.0.tar.gz PackageFileSize: 1.702 MiB