Package: slalom Version: 1.24.0 Command: /Library/Frameworks/R.framework/Resources/bin/R CMD build --keep-empty-dirs --no-resave-data slalom StartedAt: 2024-04-15 22:06:50 -0400 (Mon, 15 Apr 2024) EndedAt: 2024-04-15 22:07:34 -0400 (Mon, 15 Apr 2024) EllapsedTime: 43.2 seconds RetCode: 1 Status: ERROR PackageFile: None PackageFileSize: NA