Package: slalom Version: 1.24.0 Command: /home/biocbuild/R/R-4.3.1/bin/R CMD INSTALL slalom StartedAt: 2023-11-01 20:53:07 -0000 (Wed, 01 Nov 2023) EndedAt: 2023-11-01 20:54:38 -0000 (Wed, 01 Nov 2023) EllapsedTime: 90.8 seconds RetCode: 0 Status: OK