Package: slalom Version: 1.24.0 Command: /home/biocbuild/R/R-4.3.1/bin/R CMD check --install=check:slalom.install-out.txt --library=/home/biocbuild/R/R-4.3.1/site-library --no-vignettes --timings slalom_1.24.0.tar.gz StartedAt: 2023-11-02 14:28:12 -0000 (Thu, 02 Nov 2023) EndedAt: 2023-11-02 14:34:41 -0000 (Thu, 02 Nov 2023) EllapsedTime: 389.7 seconds RetCode: 0 Status: OK CheckDir: slalom.Rcheck Warnings: 0