Package: skewr Version: 1.34.0 Command: /Library/Frameworks/R.framework/Resources/bin/R CMD INSTALL skewr StartedAt: 2024-04-15 16:38:21 -0400 (Mon, 15 Apr 2024) EndedAt: 2024-04-15 16:40:04 -0400 (Mon, 15 Apr 2024) EllapsedTime: 103.2 seconds RetCode: 0 Status: OK